BEGIN:VCALENDAR
VERSION:2.0
PRODID:-//Eventin//Event Calendar//EN
CALSCALE:GREGORIAN
METHOD:PUBLISH
BEGIN:VEVENT
UID:4c8c0a0c700630f6538cb154205ef656@bezirkuster.grunliberale.ch
SUMMARY:MV GLP Bezirk Uster
DESCRIPTION:
LOCATION:Egg\, Hirschensaal
DTSTAMP:20260420T023402Z
DTSTART:20260604T173000Z
DTEND:20260604T200000Z
END:VEVENT
END:VCALENDAR
